BEGIN:VCALENDAR
VERSION:2.0
PRODID:-//ITCN Child Care Development Fund - ECPv6.15.18//NONSGML v1.0//EN
CALSCALE:GREGORIAN
METHOD:PUBLISH
X-WR-CALNAME:ITCN Child Care Development Fund
X-ORIGINAL-URL:http://itcnccdf.org
X-WR-CALDESC:Events for ITCN Child Care Development Fund
REFRESH-INTERVAL;VALUE=DURATION:PT1H
X-Robots-Tag:noindex
X-PUBLISHED-TTL:PT1H
BEGIN:VTIMEZONE
TZID:America/Los_Angeles
BEGIN:DAYLIGHT
TZOFFSETFROM:-0800
TZOFFSETTO:-0700
TZNAME:PDT
DTSTART:20200308T100000
END:DAYLIGHT
BEGIN:STANDARD
TZOFFSETFROM:-0700
TZOFFSETTO:-0800
TZNAME:PST
DTSTART:20201101T090000
END:STANDARD
BEGIN:DAYLIGHT
TZOFFSETFROM:-0800
TZOFFSETTO:-0700
TZNAME:PDT
DTSTART:20210314T100000
END:DAYLIGHT
BEGIN:STANDARD
TZOFFSETFROM:-0700
TZOFFSETTO:-0800
TZNAME:PST
DTSTART:20211107T090000
END:STANDARD
BEGIN:DAYLIGHT
TZOFFSETFROM:-0800
TZOFFSETTO:-0700
TZNAME:PDT
DTSTART:20220313T100000
END:DAYLIGHT
BEGIN:STANDARD
TZOFFSETFROM:-0700
TZOFFSETTO:-0800
TZNAME:PST
DTSTART:20221106T090000
END:STANDARD
BEGIN:DAYLIGHT
TZOFFSETFROM:-0800
TZOFFSETTO:-0700
TZNAME:PDT
DTSTART:20230312T100000
END:DAYLIGHT
BEGIN:STANDARD
TZOFFSETFROM:-0700
TZOFFSETTO:-0800
TZNAME:PST
DTSTART:20231105T090000
END:STANDARD
END:VTIMEZONE
BEGIN:VEVENT
DTSTART;TZID=America/Los_Angeles:20220430T153000
DTEND;TZID=America/Los_Angeles:20220430T193000
DTSTAMP:20260421T083651
CREATED:20220407T172103Z
LAST-MODIFIED:20220407T172436Z
UID:2163-1651332600-1651347000@itcnccdf.org
SUMMARY:Reno Summer Kick-Off
DESCRIPTION:Join ITCN CCDF for a day full of fun at the Coconut Bowl. \nFamilies on the program will receive Wild Island Season Passes for the whole family!\nWe hope to see you there. \n  \n 
URL:http://itcnccdf.org/event/reno-summer-kick-off/
LOCATION:Coconut Bowl\, 1855 E Lincoln Way\, Sparks\, NV\, NV\, 89434\, United States
CATEGORIES:Events
END:VEVENT
BEGIN:VEVENT
DTSTART;TZID=America/Los_Angeles:20210814T100000
DTEND;TZID=America/Los_Angeles:20210814T130000
DTSTAMP:20260421T083651
CREATED:20210726T181740Z
LAST-MODIFIED:20210726T213211Z
UID:1954-1628935200-1628946000@itcnccdf.org
SUMMARY:Native Breastfeeding Week
DESCRIPTION:Join us for an Informational Event for the Child Care Development Fund and WIC (Women\, Infants & Children). \nLunch and dessert will be provided for free. \nThis event is open to the public. We will be handing out information for breastfeeding and we will have a mobile health clinic coming to the event for COVID-19 testing and oral contraceptives.
URL:http://itcnccdf.org/event/native-breastfeeding-week/
LOCATION:ITCN CCDF Las Vegas\, 2920 South Rainbow Blvd.\, Suite 160\, Las Vegas\, Nevada\, 89146
CATEGORIES:Events
END:VEVENT
BEGIN:VEVENT
DTSTART;TZID=America/Los_Angeles:20210813T120000
DTEND;TZID=America/Los_Angeles:20210813T140000
DTSTAMP:20260421T083651
CREATED:20210726T175142Z
LAST-MODIFIED:20210726T213321Z
UID:1949-1628856000-1628863200@itcnccdf.org
SUMMARY:Back to School Event - Carson City
DESCRIPTION:Join ITCN CCDF for our Back to School Event\, presented by Nevada Urban Indians\, Inc.! \nClinic services available same day include: \n\nSports Physicals\nWell Child Exams\nImmunizations/Vaccines\n\n*Please bring your ID and Insurance card \nFirst come first serve – don’t miss out!\nFor any questions\, please call Nevada Urban Indians\, Inc. at 775-788-7600.
URL:http://itcnccdf.org/event/back-to-school-event-carson-city-2021/
LOCATION:Nevada Urban Indians – Carson City\, 236 E Winnie Lane\, Carson City\, NV\, 89706
CATEGORIES:Events
END:VEVENT
BEGIN:VEVENT
DTSTART;TZID=America/Los_Angeles:20210805T130000
DTEND;TZID=America/Los_Angeles:20210805T150000
DTSTAMP:20260421T083651
CREATED:20210726T173714Z
LAST-MODIFIED:20210726T213343Z
UID:1939-1628168400-1628175600@itcnccdf.org
SUMMARY:Back to School Event - Reno
DESCRIPTION:Join ITCN CCDF for our Back to School Event\, presented by Nevada Urban Indians\, Inc.! \nClinic services available same day include: \n\nSports Physicals\nWell Child Exams\nImmunizations/Vaccines\n\n*Please bring your ID and Insurance card \nFirst come first serve – don’t miss out!\nFor any questions\, please call Nevada Urban Indians\, Inc. at 775-788-7600. \n 
URL:http://itcnccdf.org/event/back-to-school-event-reno-2021/
LOCATION:Nevada Urban Indians – Reno\, 6512 S. McCarran Blvd. Suite A\, B\, C\, Reno\, Nevada\, 89509
CATEGORIES:Events
END:VEVENT
BEGIN:VEVENT
DTSTART;TZID=America/Los_Angeles:20210731T173000
DTEND;TZID=America/Los_Angeles:20210731T173000
DTSTAMP:20260421T083651
CREATED:20210721T190642Z
LAST-MODIFIED:20210721T193342Z
UID:1577-1627752600-1627752600@itcnccdf.org
SUMMARY:*FREE* CCDF Informational Night at The Discovery
DESCRIPTION:Join ITCN CCDF for a **FREE** Informational Night at The Discovery! The Child Care Development Fund (CCDF) provides child care payment assistance for American Indian and Alaska Native families in Nevada. This event will provide an opportunity for families to learn about the program and apply! This event is FREE and open to the public.
URL:http://itcnccdf.org/event/free-ccdf-informational-night-at-the-discovery/
LOCATION:The Discovery\, 490 S. Center St\, Reno\, Nevada\, 89501
CATEGORIES:Events
END:VEVENT
END:VCALENDAR